BEGIN:VCALENDAR
VERSION:2.0
PRODID:-//The Eternal God Ministries Worldwide - ECPv6.15.13.1//NONSGML v1.0//EN
CALSCALE:GREGORIAN
METHOD:PUBLISH
X-WR-CALNAME:The Eternal God Ministries Worldwide
X-ORIGINAL-URL:https://tegministries.org
X-WR-CALDESC:Events for The Eternal God Ministries Worldwide
REFRESH-INTERVAL;VALUE=DURATION:PT1H
X-Robots-Tag:noindex
X-PUBLISHED-TTL:PT1H
BEGIN:VTIMEZONE
TZID:UTC
BEGIN:STANDARD
TZOFFSETFROM:+0000
TZOFFSETTO:+0000
TZNAME:UTC
DTSTART:20220101T000000
END:STANDARD
END:VTIMEZONE
BEGIN:VEVENT
DTSTART;TZID=UTC:20230916T080000
DTEND;TZID=UTC:20230916T080000
DTSTAMP:20260421T175044
CREATED:20230904T110812Z
LAST-MODIFIED:20230904T110814Z
UID:2351-1694851200-1694851200@tegministries.org
SUMMARY:Moment of Miracle\, Healing and Blessings
DESCRIPTION:With Prophet Samuel Olagunju
URL:https://tegministries.org/event/moment-of-miracle-healing-and-blessings/
LOCATION:Live on Telegram
ATTACH;FMTTYPE=image/png:https://tegministries.org/wp-content/uploads/2023/09/moment-of-miracle-and-healing_-1.png
END:VEVENT
END:VCALENDAR